BEGIN:VCALENDAR
VERSION:2.0
PRODID:-//Dayspring Christian Academy - ECPv6.15.17//NONSGML v1.0//EN
CALSCALE:GREGORIAN
METHOD:PUBLISH
X-WR-CALNAME:Dayspring Christian Academy
X-ORIGINAL-URL:https://dayspringeagles.org
X-WR-CALDESC:Events for Dayspring Christian Academy
REFRESH-INTERVAL;VALUE=DURATION:PT1H
X-Robots-Tag:noindex
X-PUBLISHED-TTL:PT1H
BEGIN:VTIMEZONE
TZID:UTC
BEGIN:STANDARD
TZOFFSETFROM:+0000
TZOFFSETTO:+0000
TZNAME:UTC
DTSTART:20250101T000000
END:STANDARD
END:VTIMEZONE
BEGIN:VEVENT
DTSTART;TZID=UTC:20260425T193000
DTEND;TZID=UTC:20260425T220000
DTSTAMP:20260423T145353
CREATED:20260325T160536Z
LAST-MODIFIED:20260417T183732Z
UID:10000202-1777145400-1777154400@dayspringeagles.org
SUMMARY:Dayspring Junior-Senior Prom
DESCRIPTION:Dayspring Junior-Senior Prom.  River Fort Ranch @ 7:30 pm.
URL:https://dayspringeagles.org/event/dayspring-junior-senior-prom/
LOCATION:CO
CATEGORIES:All School,MS/HS
ATTACH;FMTTYPE=image/png:https://dayspringeagles.org/wp-content/uploads/2026/03/Prom-Invitation-2.png
END:VEVENT
BEGIN:VEVENT
DTSTART;TZID=UTC:20260430T170000
DTEND;TZID=UTC:20260430T203000
DTSTAMP:20260423T145353
CREATED:20260325T153446Z
LAST-MODIFIED:20260325T153446Z
UID:10000194-1777568400-1777581000@dayspringeagles.org
SUMMARY:HS Baseball vs. Highland @ Butch Butler Field
DESCRIPTION:DCA HS Baseball hosts Highland High School on April 30th at Butch Butler Field. Varsity will play at 5 pm\, and JV will play immediately after the varsity game.
URL:https://dayspringeagles.org/event/hs-baseball-vs-highland-butch-butler-field/
LOCATION:CO
CATEGORIES:All School,Athletics,MS/HS
ATTACH;FMTTYPE=image/png:https://dayspringeagles.org/wp-content/uploads/2025/03/HSBaseball.png
END:VEVENT
BEGIN:VEVENT
DTSTART;TZID=UTC:20260508T190000
DTEND;TZID=UTC:20260508T203000
DTSTAMP:20260423T145353
CREATED:20260324T215052Z
LAST-MODIFIED:20260324T215052Z
UID:10000191-1778266800-1778272200@dayspringeagles.org
SUMMARY:Steven Curtis Chapman Concert at UCCC
DESCRIPTION:Get ready for an unforgettable night of music and inspiration! We’re thrilled to announce that the incredible Stephen Curtis Chapman will be taking the stage at the Union Colony Civic Center in Greeley\, Colorado\, on March 7th\, 2026!\n\nThis is more than just a concert; it’s an experience you won’t want to miss! Gather your friends and family for an evening filled with uplifting tunes and heart-stirring moments. \n\n\nTickets are available for purchase at https://ucstars.showare.com!\n\n\nFor information about sponsorship opportunities\, please visit us at http://weblink.donorperfect.com/SCCconcert.\n\n\n\nAll proceeds will go towards scholarships for Dayspring Christian Academy\, so you’ll be supporting a fantastic cause while enjoying an incredible night!
URL:https://dayspringeagles.org/event/steven-curtis-chapman-concert-at-uccc/
LOCATION:Union Colony Civic Center\, 701 10th Ave\, Greeley\, CO\, 80631\, United States
CATEGORIES:Academics/Staff,All School,Elementary,MS/HS,PreK
ATTACH;FMTTYPE=image/png:https://dayspringeagles.org/wp-content/uploads/2026/01/Steven-Curtis-Chapman-landscape-6.png
END:VEVENT
BEGIN:VEVENT
DTSTART;TZID=UTC:20260509T120000
DTEND;TZID=UTC:20260509T140000
DTSTAMP:20260423T145353
CREATED:20260325T153636Z
LAST-MODIFIED:20260325T153636Z
UID:10000195-1778328000-1778335200@dayspringeagles.org
SUMMARY:HS Baseball vs. Denver Academy @ Butch Butler Field
DESCRIPTION:DCA HS Baseball hosts Denver Academy on May 9th at Butch Butler Field. Varsity will play at 12 pm. \n*Senior Recognition
URL:https://dayspringeagles.org/event/hs-baseball-vs-denver-academy-butch-butler-field/
LOCATION:Butch Butler Field\, 2227 23rd Avenue\, Greeley\, CO\, 80634\, United States
CATEGORIES:All School,Athletics,MS/HS
ATTACH;FMTTYPE=image/png:https://dayspringeagles.org/wp-content/uploads/2025/03/HSBaseball.png
END:VEVENT
BEGIN:VEVENT
DTSTART;TZID=UTC:20260521T190000
DTEND;TZID=UTC:20260521T200000
DTSTAMP:20260423T145353
CREATED:20260205T143016Z
LAST-MODIFIED:20260205T143016Z
UID:10000183-1779390000-1779393600@dayspringeagles.org
SUMMARY:Baccalaureate
DESCRIPTION:Baccalaureate for the Dayspring Class of 2026
URL:https://dayspringeagles.org/event/baccalaureate/
LOCATION:Dayspring Christian Academy\, 3734 W 20th St\,\, Greeley\,\, CO\, 80634\, United States
CATEGORIES:Academics/Staff,All School,MS/HS
ATTACH;FMTTYPE=image/png:https://dayspringeagles.org/wp-content/uploads/2026/02/GRADUATION-2.png
END:VEVENT
BEGIN:VEVENT
DTSTART;TZID=UTC:20260522T190000
DTEND;TZID=UTC:20260522T203000
DTSTAMP:20260423T145353
CREATED:20260205T142833Z
LAST-MODIFIED:20260205T142833Z
UID:10000182-1779476400-1779481800@dayspringeagles.org
SUMMARY:Dayspring Class of 2026 Graduation
DESCRIPTION:Dayspring Christian Academy’s Class of 2026 Graduation at 7 pm.
URL:https://dayspringeagles.org/event/dayspring-class-of-2026-graduation/
LOCATION:City Lights Church\, 7251 W 4th St.\, Greeley\, CO\, 80634\, United States
CATEGORIES:Academics/Staff,All School,MS/HS
ATTACH;FMTTYPE=image/png:https://dayspringeagles.org/wp-content/uploads/2026/02/GRADUATION.png
END:VEVENT
END:VCALENDAR