BEGIN:VCALENDAR
VERSION:2.0
PRODID:-//Dayspring Christian Academy - ECPv6.15.17//NONSGML v1.0//EN
CALSCALE:GREGORIAN
METHOD:PUBLISH
X-WR-CALNAME:Dayspring Christian Academy
X-ORIGINAL-URL:https://dayspringeagles.org
X-WR-CALDESC:Events for Dayspring Christian Academy
REFRESH-INTERVAL;VALUE=DURATION:PT1H
X-Robots-Tag:noindex
X-PUBLISHED-TTL:PT1H
BEGIN:VTIMEZONE
TZID:UTC
BEGIN:STANDARD
TZOFFSETFROM:+0000
TZOFFSETTO:+0000
TZNAME:UTC
DTSTART:20250101T000000
END:STANDARD
END:VTIMEZONE
BEGIN:VEVENT
DTSTART;TZID=UTC:20260420T170000
DTEND;TZID=UTC:20260420T203000
DTSTAMP:20260423T175758
CREATED:20260325T153310Z
LAST-MODIFIED:20260325T153310Z
UID:10000193-1776704400-1776717000@dayspringeagles.org
SUMMARY:HS Baseball vs. Forge Christian @ Butch Butler Field
DESCRIPTION:DCA HS Baseball hosts Forge Christian on April 20th at Butch Butler Field. Varsity will play at 5 pm\, and JV will play at 7 pm.
URL:https://dayspringeagles.org/event/hs-baseball-vs-forge-christian-butch-butler-field/
LOCATION:Butch Butler Field\, 2227 23rd Avenue\, Greeley\, CO\, 80634\, United States
CATEGORIES:All School,Athletics,MS/HS
ATTACH;FMTTYPE=image/png:https://dayspringeagles.org/wp-content/uploads/2025/03/HSBaseball.png
END:VEVENT
BEGIN:VEVENT
DTSTART;TZID=UTC:20260402T170000
DTEND;TZID=UTC:20260402T200000
DTSTAMP:20260423T175758
CREATED:20260330T223635Z
LAST-MODIFIED:20260330T223635Z
UID:10000205-1775149200-1775160000@dayspringeagles.org
SUMMARY:Dayspring HS Baseball vs. Liberty Commons
DESCRIPTION:Dayspring Christian Academy vs. Liberty Commons – Originally scheduled for 3/31\, this game has been rescheduled for 4/2 and will now be held at Butch Butler Field.  Varsity will play at 5 pm\, and JV will play innings after.
URL:https://dayspringeagles.org/event/dayspring-hs-baseball-vs-liberty-commons/
LOCATION:Butch Butler Field\, 2227 23rd Avenue\, Greeley\, CO\, 80634\, United States
CATEGORIES:Academics/Staff,All School,Athletics,MS/HS
ATTACH;FMTTYPE=image/png:https://dayspringeagles.org/wp-content/uploads/2025/03/HSBaseball.png
END:VEVENT
BEGIN:VEVENT
DTSTART;TZID=UTC:20260326T170000
DTEND;TZID=UTC:20260326T203000
DTSTAMP:20260423T175758
CREATED:20260325T153132Z
LAST-MODIFIED:20260325T153132Z
UID:10000192-1774544400-1774557000@dayspringeagles.org
SUMMARY:HS Baseball vs. Lyons @ Butch Butler Field
DESCRIPTION:DCA HS Baseball hosts Lyons on March 26th at Butch Butler Field. Varsity will play at 5 pm\, and JV will play at 7 pm.
URL:https://dayspringeagles.org/event/hs-baseball-vs-lyons-butch-butler-field/
LOCATION:Butch Butler Field\, 2227 23rd Avenue\, Greeley\, CO\, 80634\, United States
CATEGORIES:Athletics,MS/HS
ATTACH;FMTTYPE=image/png:https://dayspringeagles.org/wp-content/uploads/2025/03/HSBaseball.png
END:VEVENT
END:VCALENDAR