BEGIN:VCALENDAR
VERSION:2.0
PRODID:-//Dayspring Christian Academy - ECPv6.15.17//NONSGML v1.0//EN
CALSCALE:GREGORIAN
METHOD:PUBLISH
X-ORIGINAL-URL:https://dayspringeagles.org
X-WR-CALDESC:Events for Dayspring Christian Academy
REFRESH-INTERVAL;VALUE=DURATION:PT1H
X-Robots-Tag:noindex
X-PUBLISHED-TTL:PT1H
BEGIN:VTIMEZONE
TZID:UTC
BEGIN:STANDARD
TZOFFSETFROM:+0000
TZOFFSETTO:+0000
TZNAME:UTC
DTSTART:20250101T000000
END:STANDARD
END:VTIMEZONE
BEGIN:VEVENT
DTSTART;TZID=UTC:20260509T120000
DTEND;TZID=UTC:20260509T140000
DTSTAMP:20260423T162712
CREATED:20260325T153636Z
LAST-MODIFIED:20260325T153636Z
UID:10000195-1778328000-1778335200@dayspringeagles.org
SUMMARY:HS Baseball vs. Denver Academy @ Butch Butler Field
DESCRIPTION:DCA HS Baseball hosts Denver Academy on May 9th at Butch Butler Field. Varsity will play at 12 pm. \n*Senior Recognition
URL:https://dayspringeagles.org/event/hs-baseball-vs-denver-academy-butch-butler-field/
LOCATION:Butch Butler Field\, 2227 23rd Avenue\, Greeley\, CO\, 80634\, United States
CATEGORIES:All School,Athletics,MS/HS
ATTACH;FMTTYPE=image/png:https://dayspringeagles.org/wp-content/uploads/2025/03/HSBaseball.png
END:VEVENT
END:VCALENDAR