BEGIN:VCALENDAR
VERSION:2.0
PRODID:-//Dayspring Christian Academy - ECPv6.15.17//NONSGML v1.0//EN
CALSCALE:GREGORIAN
METHOD:PUBLISH
X-ORIGINAL-URL:https://dayspringeagles.org
X-WR-CALDESC:Events for Dayspring Christian Academy
REFRESH-INTERVAL;VALUE=DURATION:PT1H
X-Robots-Tag:noindex
X-PUBLISHED-TTL:PT1H
BEGIN:VTIMEZONE
TZID:UTC
BEGIN:STANDARD
TZOFFSETFROM:+0000
TZOFFSETTO:+0000
TZNAME:UTC
DTSTART:20250101T000000
END:STANDARD
END:VTIMEZONE
BEGIN:VEVENT
DTSTART;TZID=UTC:20260522T190000
DTEND;TZID=UTC:20260522T203000
DTSTAMP:20260423T162350
CREATED:20260205T142833Z
LAST-MODIFIED:20260205T142833Z
UID:10000182-1779476400-1779481800@dayspringeagles.org
SUMMARY:Dayspring Class of 2026 Graduation
DESCRIPTION:Dayspring Christian Academy’s Class of 2026 Graduation at 7 pm.
URL:https://dayspringeagles.org/event/dayspring-class-of-2026-graduation/
LOCATION:City Lights Church\, 7251 W 4th St.\, Greeley\, CO\, 80634\, United States
CATEGORIES:Academics/Staff,All School,MS/HS
ATTACH;FMTTYPE=image/png:https://dayspringeagles.org/wp-content/uploads/2026/02/GRADUATION.png
END:VEVENT
END:VCALENDAR