BEGIN:VCALENDAR
VERSION:2.0
PRODID:-//Dayspring Christian Academy - ECPv6.15.17//NONSGML v1.0//EN
CALSCALE:GREGORIAN
METHOD:PUBLISH
X-ORIGINAL-URL:https://dayspringeagles.org
X-WR-CALDESC:Events for Dayspring Christian Academy
REFRESH-INTERVAL;VALUE=DURATION:PT1H
X-Robots-Tag:noindex
X-PUBLISHED-TTL:PT1H
BEGIN:VTIMEZONE
TZID:UTC
BEGIN:STANDARD
TZOFFSETFROM:+0000
TZOFFSETTO:+0000
TZNAME:UTC
DTSTART:20240101T000000
END:STANDARD
END:VTIMEZONE
BEGIN:VEVENT
DTSTART;TZID=UTC:20250307T173000
DTEND;TZID=UTC:20250307T190000
DTSTAMP:20260424T071018
CREATED:20250304T203055Z
LAST-MODIFIED:20250304T203124Z
UID:10000050-1741368600-1741374000@dayspringeagles.org
SUMMARY:HS Boys Basketball: @ Crowley County
DESCRIPTION:
URL:https://dayspringeagles.org/event/hs-boys-basketball-crowley-county/
LOCATION:Crowley County
CATEGORIES:All School,Athletics,MS/HS
ATTACH;FMTTYPE=image/png:https://dayspringeagles.org/wp-content/uploads/2025/03/HS-Mens-Basketball.png
END:VEVENT
END:VCALENDAR