BEGIN:VCALENDAR
VERSION:2.0
PRODID:-//Dayspring Christian Academy - ECPv6.15.17//NONSGML v1.0//EN
CALSCALE:GREGORIAN
METHOD:PUBLISH
X-WR-CALNAME:Dayspring Christian Academy
X-ORIGINAL-URL:https://dayspringeagles.org
X-WR-CALDESC:Events for Dayspring Christian Academy
REFRESH-INTERVAL;VALUE=DURATION:PT1H
X-Robots-Tag:noindex
X-PUBLISHED-TTL:PT1H
BEGIN:VTIMEZONE
TZID:UTC
BEGIN:STANDARD
TZOFFSETFROM:+0000
TZOFFSETTO:+0000
TZNAME:UTC
DTSTART:20240101T000000
END:STANDARD
END:VTIMEZONE
BEGIN:VEVENT
DTSTART;TZID=UTC:20260225T160000
DTEND;TZID=UTC:20260225T180000
DTSTAMP:20260423T200836
CREATED:20251208T215757Z
LAST-MODIFIED:20251208T215757Z
UID:10000166-1772035200-1772042400@dayspringeagles.org
SUMMARY:MS Girls Basketball vs. St. Joseph @ DCA
DESCRIPTION:MS Girls Basketball vs. St. Joseph @ DCA @ 4 pm & 5 pm
URL:https://dayspringeagles.org/event/ms-girls-basketball-vs-st-joseph-dca/
LOCATION:Dayspring Christian Academy\, 3734 W 20th St\,\, Greeley\,\, CO\, 80634\, United States
CATEGORIES:Athletics,MS/HS
ATTACH;FMTTYPE=image/png:https://dayspringeagles.org/wp-content/uploads/2025/12/SPORTS-25-Event-Calendar-13.png
END:VEVENT
BEGIN:VEVENT
DTSTART;TZID=UTC:20260219T160000
DTEND;TZID=UTC:20260219T180000
DTSTAMP:20260423T200836
CREATED:20251208T211219Z
LAST-MODIFIED:20251208T215642Z
UID:10000164-1771516800-1771524000@dayspringeagles.org
SUMMARY:MS Girls Basketball vs. Windsor Charter @ DCA
DESCRIPTION:MS Girls Basketball vs. Windsor Charter @ DCA @ 4 pm and 5 pm
URL:https://dayspringeagles.org/event/ms-girls-basketball-vs-windsor-charter-dca/
LOCATION:Dayspring Christian Academy\, 3734 W 20th St\,\, Greeley\,\, CO\, 80634\, United States
CATEGORIES:Athletics,MS/HS
ATTACH;FMTTYPE=image/png:https://dayspringeagles.org/wp-content/uploads/2025/12/SPORTS-25-Event-Calendar-13.png
END:VEVENT
BEGIN:VEVENT
DTSTART;TZID=UTC:20260218T160000
DTEND;TZID=UTC:20260218T183000
DTSTAMP:20260423T200836
CREATED:20251208T215559Z
LAST-MODIFIED:20251208T215559Z
UID:10000165-1771430400-1771439400@dayspringeagles.org
SUMMARY:HS Women's Basketball vs. Calhan
DESCRIPTION:HS Women’s Basketball vs. Calhan @ 4 pm GJV and 5:30 GV @ DCA
URL:https://dayspringeagles.org/event/hs-womens-basketball-vs-calhan/
LOCATION:Dayspring Christian Academy\, 3734 W 20th St\,\, Greeley\,\, CO\, 80634\, United States
CATEGORIES:Athletics,MS/HS
ATTACH;FMTTYPE=image/png:https://dayspringeagles.org/wp-content/uploads/2025/11/SPORTS-25-Event-Calendar-11.png
END:VEVENT
BEGIN:VEVENT
DTSTART;TZID=UTC:20260216T163000
DTEND;TZID=UTC:20260216T180000
DTSTAMP:20260423T200836
CREATED:20260121T175906Z
LAST-MODIFIED:20260121T175906Z
UID:10000168-1771259400-1771264800@dayspringeagles.org
SUMMARY:Girls Varsity Basketball vs. Belleview
DESCRIPTION:Girls Varsity Basketball vs. Belleview @ DCA @ 4:30 pm
URL:https://dayspringeagles.org/event/girls-varsity-basketball-vs-belleview/
LOCATION:Dayspring Christian Academy\, 3734 W 20th St\,\, Greeley\,\, CO\, 80634\, United States
CATEGORIES:Athletics,MS/HS
ATTACH;FMTTYPE=image/png:https://dayspringeagles.org/wp-content/uploads/2025/11/SPORTS-25-Event-Calendar-11.png
END:VEVENT
BEGIN:VEVENT
DTSTART;TZID=UTC:20260214T110000
DTEND;TZID=UTC:20260214T123000
DTSTAMP:20260423T200836
CREATED:20260203T230854Z
LAST-MODIFIED:20260203T230854Z
UID:10000175-1771066800-1771072200@dayspringeagles.org
SUMMARY:Mom-Son Nerf War
DESCRIPTION:Attention Dayspring boys (K-6th grade) and their awesome moms! Are you ready for some epic fun? Join us for our FIRST Mother/Son Nerf War! \n\n\n\n Date: Saturday\, February 14th\n Time: 11 AM – 12:30 PM\n Location: DCA Cafeteria\n\n\n\nGrab your Neft guns and wear your best battle gear because there are prizes up for grabs! \n\n\n\n Cost: Just $10 for you and your little warrior (each additional son is only $5).\n\n\n\nDon’t wait—tickets are available now with Mrs. Brown in the main DCA office. Let’s see who comes out on top in this mom-son showdown!
URL:https://dayspringeagles.org/event/mom-son-nerf-war/
LOCATION:Dayspring Christian Academy\, 3734 W 20th St\,\, Greeley\,\, CO\, 80634\, United States
CATEGORIES:All School,Elementary
ATTACH;FMTTYPE=image/png:https://dayspringeagles.org/wp-content/uploads/2026/02/Copy-of-nerf.png
END:VEVENT
BEGIN:VEVENT
DTSTART;TZID=UTC:20260213T180000
DTEND;TZID=UTC:20260213T193000
DTSTAMP:20260423T200836
CREATED:20260203T230652Z
LAST-MODIFIED:20260203T230652Z
UID:10000174-1771005600-1771011000@dayspringeagles.org
SUMMARY:Father-Daughter Dance
DESCRIPTION:🌟✨ Join us for a magical evening at the Dayspring Christian Academy’s Annual Daddy Daughter Dance! ✨🌟 \n\n\n \n\n\n\n💖 The cost is just $20 per couple (and an extra $5 for each additional child)\, so gather the family and let’s celebrate this special bond! Open to Dayspring Christian Academy girls in PK4 – 6th grade.\n\n\n \n\n\n🎟 Tickets are available for purchase with Mrs. Brown in the main office of the DCA building. Don’t miss out on the fun – grab your tickets today!\n\n\n 
URL:https://dayspringeagles.org/event/father-daughter-dance/
LOCATION:Dayspring Christian Academy\, 3734 W 20th St\,\, Greeley\,\, CO\, 80634\, United States
CATEGORIES:All School,Elementary
ATTACH;FMTTYPE=image/png:https://dayspringeagles.org/wp-content/uploads/2026/02/Daddy-daughter-dance-Facebook-Post.png
END:VEVENT
BEGIN:VEVENT
DTSTART;TZID=UTC:20260212T180000
DTEND;TZID=UTC:20260212T193000
DTSTAMP:20260423T200836
CREATED:20260203T223242Z
LAST-MODIFIED:20260203T223242Z
UID:10000172-1770919200-1770924600@dayspringeagles.org
SUMMARY:Freshman Ignite
DESCRIPTION:You are invited to Freshman Ignite\, an informational evening that will showcase what DCA has to offer\, allow families to select courses\, meet teachers and coaches\, and more!
URL:https://dayspringeagles.org/event/freshman-ignite/
LOCATION:Dayspring Christian Academy\, 3734 W 20th St\,\, Greeley\,\, CO\, 80634\, United States
CATEGORIES:Academics/Staff,All School,MS/HS
ATTACH;FMTTYPE=image/png:https://dayspringeagles.org/wp-content/uploads/2026/02/freshmen-2022-6.png
END:VEVENT
BEGIN:VEVENT
DTSTART;TZID=UTC:20260212T160000
DTEND;TZID=UTC:20260212T180000
DTSTAMP:20260423T200836
CREATED:20260203T230241Z
LAST-MODIFIED:20260203T230241Z
UID:10000173-1770912000-1770919200@dayspringeagles.org
SUMMARY:MS Wrestling Dual with Platte Valley
DESCRIPTION:MS Wrestling Home Dual with Platte Valley at 4 pm
URL:https://dayspringeagles.org/event/ms-wrestling-dual-with-platte-valley/
LOCATION:Dayspring Christian Academy\, 3734 W 20th St\,\, Greeley\,\, CO\, 80634\, United States
CATEGORIES:Athletics,MS/HS
END:VEVENT
BEGIN:VEVENT
DTSTART;TZID=UTC:20260211T160000
DTEND;TZID=UTC:20260211T180000
DTSTAMP:20260423T200836
CREATED:20251208T211112Z
LAST-MODIFIED:20251208T211112Z
UID:10000163-1770825600-1770832800@dayspringeagles.org
SUMMARY:MS Girls Basketball vs. Estes Park @ DCA
DESCRIPTION:MS Girls Basketball vs. Estes Park @ DCA @ 4 pm & 5 pm
URL:https://dayspringeagles.org/event/ms-girls-basketball-vs-estes-park-dca/
LOCATION:Dayspring Christian Academy\, 3734 W 20th St\,\, Greeley\,\, CO\, 80634\, United States
CATEGORIES:Athletics,MS/HS
ATTACH;FMTTYPE=image/png:https://dayspringeagles.org/wp-content/uploads/2025/12/SPORTS-25-Event-Calendar-13.png
END:VEVENT
BEGIN:VEVENT
DTSTART;TZID=UTC:20260210T160000
DTEND;TZID=UTC:20260210T210000
DTSTAMP:20260423T200836
CREATED:20251121T181804Z
LAST-MODIFIED:20251208T215143Z
UID:10000158-1770739200-1770757200@dayspringeagles.org
SUMMARY:HS Women's and Men's Basketball vs. Dawson
DESCRIPTION:HS Women’s and Men’s Basketball vs. Dawson – 4 GJV\, 5 BJV\, 6:30 GV\, 8 BV
URL:https://dayspringeagles.org/event/hs-womens-and-mens-basketball-vs-dawson/
LOCATION:Dayspring Christian Academy\, 3734 W 20th St\,\, Greeley\,\, CO\, 80634\, United States
CATEGORIES:Athletics,MS/HS
ATTACH;FMTTYPE=image/png:https://dayspringeagles.org/wp-content/uploads/2025/11/SPORTS-25-Event-Calendar-11.png
END:VEVENT
BEGIN:VEVENT
DTSTART;TZID=UTC:20260203T160000
DTEND;TZID=UTC:20260203T203000
DTSTAMP:20260423T200836
CREATED:20251121T181622Z
LAST-MODIFIED:20251208T215046Z
UID:10000157-1770134400-1770150600@dayspringeagles.org
SUMMARY:HS Women's and Men's Basketball vs. Flatirons
DESCRIPTION:HS Women’s and Men’s Basketball vs. Flatirons – 4 GJV\, 5 BJV\, 6 GV\, 7:30 BV
URL:https://dayspringeagles.org/event/hs-womens-and-mens-basketball-vs-flatirons/
LOCATION:Dayspring Christian Academy\, 3734 W 20th St\,\, Greeley\,\, CO\, 80634\, United States
CATEGORIES:Athletics,MS/HS
ATTACH;FMTTYPE=image/png:https://dayspringeagles.org/wp-content/uploads/2025/11/SPORTS-25-Event-Calendar-11.png
END:VEVENT
BEGIN:VEVENT
DTSTART;TZID=UTC:20260129T160000
DTEND;TZID=UTC:20260129T200000
DTSTAMP:20260423T200836
CREATED:20251121T181421Z
LAST-MODIFIED:20251208T214945Z
UID:10000156-1769702400-1769716800@dayspringeagles.org
SUMMARY:HS Women's and Men's Basketball
DESCRIPTION:HS Men’s Basketball vs. Gilpin – 4 BJV & 7BV\, Women’s JV Basketball vs. Heritage @ 5:30 pm
URL:https://dayspringeagles.org/event/hs-mens-basketball-vs-gilpin/
LOCATION:Dayspring Christian Academy\, 3734 W 20th St\,\, Greeley\,\, CO\, 80634\, United States
CATEGORIES:Athletics,MS/HS
ATTACH;FMTTYPE=image/png:https://dayspringeagles.org/wp-content/uploads/2025/11/SPORTS-25-Event-Calendar-11.png
END:VEVENT
BEGIN:VEVENT
DTSTART;TZID=UTC:20260128T160000
DTEND;TZID=UTC:20260128T180000
DTSTAMP:20260423T200836
CREATED:20251208T210954Z
LAST-MODIFIED:20260107T211233Z
UID:10000162-1769616000-1769623200@dayspringeagles.org
SUMMARY:MS Girls Basketball vs. St. Johns @ DCA
DESCRIPTION:MS Girls Basketball vs. St. Johns @ DCA @ 4 & 5 pm
URL:https://dayspringeagles.org/event/ms-girls-basketball-vs-st-johns-dca/
LOCATION:Dayspring Christian Academy\, 3734 W 20th St\,\, Greeley\,\, CO\, 80634\, United States
CATEGORIES:Athletics,MS/HS
ATTACH;FMTTYPE=image/png:https://dayspringeagles.org/wp-content/uploads/2025/12/SPORTS-25-Event-Calendar-13.png
END:VEVENT
BEGIN:VEVENT
DTSTART;TZID=UTC:20260127T170000
DTEND;TZID=UTC:20260127T210000
DTSTAMP:20260423T200836
CREATED:20251202T203436Z
LAST-MODIFIED:20251202T203436Z
UID:10000159-1769533200-1769547600@dayspringeagles.org
SUMMARY:Dayspring HS Wrestling Tri Dual vs. Merino and Akron
DESCRIPTION:Dayspring HS Wrestling Tri-Dual vs. Merino and Akron @ DCA Gym on Tuesday\, January 27th at 5 pm.
URL:https://dayspringeagles.org/event/dayspring-hs-wrestling-tri-dual-vs-merino-and-akron/
LOCATION:Dayspring Christian Academy\, 3734 W 20th St\,\, Greeley\,\, CO\, 80634\, United States
CATEGORIES:All School,Athletics,MS/HS
ATTACH;FMTTYPE=image/png:https://dayspringeagles.org/wp-content/uploads/2025/12/SPORTS-25-Event-Calendar-12.png
END:VEVENT
BEGIN:VEVENT
DTSTART;TZID=UTC:20260126T160000
DTEND;TZID=UTC:20260126T180000
DTSTAMP:20260423T200836
CREATED:20251208T210840Z
LAST-MODIFIED:20251208T210840Z
UID:10000161-1769443200-1769450400@dayspringeagles.org
SUMMARY:MS Girls Basketball vs. West Ridge @ DCA
DESCRIPTION:MS Girls Basketball vs. West Ridge @ DCA @ 4 pm & 5 pm
URL:https://dayspringeagles.org/event/ms-girls-basketball-vs-west-ridge-dca/
LOCATION:Dayspring Christian Academy\, 3734 W 20th St\,\, Greeley\,\, CO\, 80634\, United States
CATEGORIES:Athletics,MS/HS
ATTACH;FMTTYPE=image/png:https://dayspringeagles.org/wp-content/uploads/2025/12/SPORTS-25-Event-Calendar-13.png
END:VEVENT
BEGIN:VEVENT
DTSTART;TZID=UTC:20260124T123000
DTEND;TZID=UTC:20260124T173000
DTSTAMP:20260423T200836
CREATED:20251121T181234Z
LAST-MODIFIED:20251121T181234Z
UID:10000155-1769257800-1769275800@dayspringeagles.org
SUMMARY:HS Women's and Men's Basketball vs. Denver Christian
DESCRIPTION:HS Women’s and Men’s Basketball vs. Denver Christian – 12 GJV\, 1:30 BJV\, 3 GV\, 4:30 BV
URL:https://dayspringeagles.org/event/hs-womens-and-mens-basketball-vs-denver-christian/
LOCATION:Dayspring Christian Academy\, 3734 W 20th St\,\, Greeley\,\, CO\, 80634\, United States
CATEGORIES:Athletics,MS/HS
ATTACH;FMTTYPE=image/png:https://dayspringeagles.org/wp-content/uploads/2025/11/SPORTS-25-Event-Calendar-11.png
END:VEVENT
BEGIN:VEVENT
DTSTART;TZID=UTC:20260120T160000
DTEND;TZID=UTC:20260120T193000
DTSTAMP:20260423T200836
CREATED:20251121T181057Z
LAST-MODIFIED:20251208T214709Z
UID:10000154-1768924800-1768937400@dayspringeagles.org
SUMMARY:HS Women's and Men's Basketball vs. Union Colony
DESCRIPTION:HS Women’s and Men’s Basketball vs. Union Colony – 4 GJV (2 qt)\, 5:30 BJV\, 6:30 GV\, 8 BV
URL:https://dayspringeagles.org/event/hs-womens-and-mens-basketball-vs-union-colony/
LOCATION:Dayspring Christian Academy\, 3734 W 20th St\,\, Greeley\,\, CO\, 80634\, United States
CATEGORIES:Athletics,MS/HS
ATTACH;FMTTYPE=image/png:https://dayspringeagles.org/wp-content/uploads/2025/11/SPORTS-25-Event-Calendar-11.png
END:VEVENT
BEGIN:VEVENT
DTSTART;TZID=UTC:20260115T163000
DTEND;TZID=UTC:20260115T203000
DTSTAMP:20260423T200836
CREATED:20251121T180912Z
LAST-MODIFIED:20251121T180912Z
UID:10000153-1768494600-1768509000@dayspringeagles.org
SUMMARY:HS Women’s & Men’s Basketball vs. Belleview Christian
DESCRIPTION:HS Women’s & Men’s Basketball vs. Belleview Christian – 4:30 BJV\, 6 GV\, 7:30 BV
URL:https://dayspringeagles.org/event/hs-womens-mens-basketball-vs-belleview-christian/
LOCATION:Dayspring Christian Academy\, 3734 W 20th St\,\, Greeley\,\, CO\, 80634\, United States
CATEGORIES:Athletics,MS/HS
ATTACH;FMTTYPE=image/png:https://dayspringeagles.org/wp-content/uploads/2025/11/SPORTS-25-Event-Calendar-11.png
END:VEVENT
BEGIN:VEVENT
DTSTART;TZID=UTC:20260109T170000
DTEND;TZID=UTC:20260109T210000
DTSTAMP:20260423T200836
CREATED:20251202T203609Z
LAST-MODIFIED:20251202T203609Z
UID:10000160-1767978000-1767992400@dayspringeagles.org
SUMMARY:Dayspring HS Wrestling Tri Dual vs. Estes and Lyons
DESCRIPTION:Dayspring HS Wrestling Tri-Dual vs. Estes and Lyons @ DCA Gym starting at 5 pm.
URL:https://dayspringeagles.org/event/dayspring-hs-wrestling-tri-dual-vs-estes-and-lyons/
LOCATION:Dayspring Christian Academy\, 3734 W 20th St\,\, Greeley\,\, CO\, 80634\, United States
CATEGORIES:Athletics,MS/HS
ATTACH;FMTTYPE=image/png:https://dayspringeagles.org/wp-content/uploads/2025/12/SPORTS-25-Event-Calendar-12.png
END:VEVENT
BEGIN:VEVENT
DTSTART;TZID=UTC:20260106T153000
DTEND;TZID=UTC:20260106T210000
DTSTAMP:20260423T200836
CREATED:20251121T180731Z
LAST-MODIFIED:20251121T180731Z
UID:10000152-1767713400-1767733200@dayspringeagles.org
SUMMARY:HS Women’s & Men’s Basketball vs. Heritage Christian
DESCRIPTION:HS Women’s & Men’s Basketball vs. Heritage Christian – 3:30 GJV\, 5 BJV\, 6:30 GV\, 8 BV
URL:https://dayspringeagles.org/event/hs-womens-mens-basketball-vs-heritage-christian/
LOCATION:Dayspring Christian Academy\, 3734 W 20th St\,\, Greeley\,\, CO\, 80634\, United States
CATEGORIES:Athletics,MS/HS
ATTACH;FMTTYPE=image/png:https://dayspringeagles.org/wp-content/uploads/2025/11/SPORTS-25-Event-Calendar-11.png
END:VEVENT
BEGIN:VEVENT
DTSTART;TZID=UTC:20251219T070000
DTEND;TZID=UTC:20260105T170000
DTSTAMP:20260423T200836
CREATED:20251027T180359Z
LAST-MODIFIED:20251027T180359Z
UID:10000148-1766127600-1767632400@dayspringeagles.org
SUMMARY:Christmas Break - Campus Closed
DESCRIPTION:Dayspring campus will be closed December 19th – January 2nd for Christmas Break – no before- or after-school care.  Classes and before- and after-school care will resume on January 6th.
URL:https://dayspringeagles.org/event/christmas-break-campus-closed/
LOCATION:Dayspring Christian Academy\, 3734 W 20th St\,\, Greeley\,\, CO\, 80634\, United States
CATEGORIES:Academics/Staff,All School,Athletics,Elementary,MS/HS,PreK
ATTACH;FMTTYPE=image/png:https://dayspringeagles.org/wp-content/uploads/2025/10/Happy-Birthday-Jesus-4.png
END:VEVENT
BEGIN:VEVENT
DTSTART;TZID=UTC:20251218T110000
DTEND;TZID=UTC:20251218T123000
DTSTAMP:20260423T200836
CREATED:20251027T180936Z
LAST-MODIFIED:20251201T165139Z
UID:10000150-1766055600-1766061000@dayspringeagles.org
SUMMARY:Early Dismissal
DESCRIPTION:Dayspring students will have early dismissal. \n\nPK – 11:30\nK – 6th Grades – 11:30\nMS/HS – 11:45
URL:https://dayspringeagles.org/event/early-dismissal/
LOCATION:Dayspring Christian Academy\, 3734 W 20th St\,\, Greeley\,\, CO\, 80634\, United States
CATEGORIES:Academics/Staff,All School,Athletics,Elementary,MS/HS,PreK
ATTACH;FMTTYPE=image/png:https://dayspringeagles.org/wp-content/uploads/2025/10/Happy-Birthday-Jesus-6.png
END:VEVENT
BEGIN:VEVENT
DTSTART;TZID=UTC:20251205T070000
DTEND;TZID=UTC:20251205T170000
DTSTAMP:20260423T200836
CREATED:20251027T180552Z
LAST-MODIFIED:20251027T180552Z
UID:10000149-1764918000-1764954000@dayspringeagles.org
SUMMARY:Dayspring Campus Closed
DESCRIPTION:Dayspring campus will be closed —no childcare.
URL:https://dayspringeagles.org/event/dayspring-campus-closed/
LOCATION:Dayspring Christian Academy\, 3734 W 20th St\,\, Greeley\,\, CO\, 80634\, United States
CATEGORIES:Academics/Staff,All School,Athletics,Elementary,MS/HS,PreK
ATTACH;FMTTYPE=image/png:https://dayspringeagles.org/wp-content/uploads/2025/10/Happy-Birthday-Jesus-5.png
END:VEVENT
BEGIN:VEVENT
DTSTART;TZID=UTC:20251204T160000
DTEND;TZID=UTC:20251204T203000
DTSTAMP:20260423T200836
CREATED:20251121T180528Z
LAST-MODIFIED:20251121T180753Z
UID:10000151-1764864000-1764880200@dayspringeagles.org
SUMMARY:High School Women's and Men's Basketball vs. Briggsdale
DESCRIPTION:High School Women’s and Men’s Basketball vs. Briggsdale – 4 GJV\, 5 BJV\, 6 GV\, 7:30 BV
URL:https://dayspringeagles.org/event/high-school-womens-and-mens-basketball-vs-briggsdale/
LOCATION:Dayspring Christian Academy\, 3734 W 20th St\,\, Greeley\,\, CO\, 80634\, United States
CATEGORIES:Athletics,MS/HS
ATTACH;FMTTYPE=image/png:https://dayspringeagles.org/wp-content/uploads/2025/11/SPORTS-25-Event-Calendar-11.png
END:VEVENT
BEGIN:VEVENT
DTSTART;TZID=UTC:20251018T130000
DTEND;TZID=UTC:20251018T160000
DTSTAMP:20260423T200836
CREATED:20250821T152627Z
LAST-MODIFIED:20251006T133800Z
UID:10000106-1760792400-1760803200@dayspringeagles.org
SUMMARY:HS Homecoming Football Game vs. Akron
DESCRIPTION:Join us for Dayspring’s 2025 Homecoming HS football game where our Eagles will take on Akron at home at 1 pm.
URL:https://dayspringeagles.org/event/hs-home-football-vs-akron/
LOCATION:Dayspring Christian Academy\, 3734 W 20th St\,\, Greeley\,\, CO\, 80634\, United States
CATEGORIES:All School,Athletics,MS/HS
ATTACH;FMTTYPE=image/png:https://dayspringeagles.org/wp-content/uploads/2025/07/Coming-Soon-14.png
END:VEVENT
BEGIN:VEVENT
DTSTART;TZID=UTC:20250412T180000
DTEND;TZID=UTC:20250412T200000
DTSTAMP:20260423T200836
CREATED:20250409T194633Z
LAST-MODIFIED:20250409T194633Z
UID:10000088-1744480800-1744488000@dayspringeagles.org
SUMMARY:Little Women Performance
DESCRIPTION:
URL:https://dayspringeagles.org/event/little-women-performance-3/
LOCATION:Dayspring Christian Academy\, 3734 W 20th St\,\, Greeley\,\, CO\, 80634\, United States
CATEGORIES:Academics/Staff,All School,Athletics,Elementary,MS/HS,PreK
ATTACH;FMTTYPE=image/png:https://dayspringeagles.org/wp-content/uploads/2025/04/Little-Women.png
END:VEVENT
BEGIN:VEVENT
DTSTART;TZID=UTC:20250412T130000
DTEND;TZID=UTC:20250412T150000
DTSTAMP:20260423T200836
CREATED:20250409T194551Z
LAST-MODIFIED:20250409T194551Z
UID:10000087-1744462800-1744470000@dayspringeagles.org
SUMMARY:Little Women Performance
DESCRIPTION:
URL:https://dayspringeagles.org/event/little-women-performance-2/
LOCATION:Dayspring Christian Academy\, 3734 W 20th St\,\, Greeley\,\, CO\, 80634\, United States
CATEGORIES:Academics/Staff,All School,Athletics,Elementary,MS/HS,PreK
ATTACH;FMTTYPE=image/png:https://dayspringeagles.org/wp-content/uploads/2025/04/Little-Women.png
END:VEVENT
BEGIN:VEVENT
DTSTART;TZID=UTC:20250411T180000
DTEND;TZID=UTC:20250411T200000
DTSTAMP:20260423T200836
CREATED:20250409T193617Z
LAST-MODIFIED:20250409T194330Z
UID:10000083-1744394400-1744401600@dayspringeagles.org
SUMMARY:Little Women Performance
DESCRIPTION:
URL:https://dayspringeagles.org/event/little-women-performance/
LOCATION:Dayspring Christian Academy\, 3734 W 20th St\,\, Greeley\,\, CO\, 80634\, United States
CATEGORIES:Academics/Staff,All School,Athletics,Elementary,MS/HS,PreK
ATTACH;FMTTYPE=image/png:https://dayspringeagles.org/wp-content/uploads/2025/04/Little-Women.png
END:VEVENT
BEGIN:VEVENT
DTSTART;TZID=UTC:20250307T163000
DTEND;TZID=UTC:20250307T190000
DTSTAMP:20260423T200836
CREATED:20250304T201918Z
LAST-MODIFIED:20250305T174948Z
UID:10000049-1741365000-1741374000@dayspringeagles.org
SUMMARY:MS Girls Basketball: @DCA (contingent upon winning on TH)
DESCRIPTION:
URL:https://dayspringeagles.org/event/ms-girls-basketball-dca/
LOCATION:Dayspring Christian Academy\, 3734 W 20th St\,\, Greeley\,\, CO\, 80634\, United States
CATEGORIES:All School,Athletics,MS/HS
ATTACH;FMTTYPE=image/png:https://dayspringeagles.org/wp-content/uploads/2025/02/MS-G-Basketball.png
END:VEVENT
BEGIN:VEVENT
DTSTART;TZID=UTC:20250306T163000
DTEND;TZID=UTC:20250306T180000
DTSTAMP:20260423T200836
CREATED:20250304T201059Z
LAST-MODIFIED:20250304T201431Z
UID:10000048-1741278600-1741284000@dayspringeagles.org
SUMMARY:MS Girls Basketball: @ DCA vs. St. Joseph
DESCRIPTION:
URL:https://dayspringeagles.org/event/ms-girls-basketball-st-joseph-2/
LOCATION:Dayspring Christian Academy\, 3734 W 20th St\,\, Greeley\,\, CO\, 80634\, United States
CATEGORIES:All School,Athletics,MS/HS
ATTACH;FMTTYPE=image/png:https://dayspringeagles.org/wp-content/uploads/2025/02/MS-G-Basketball.png
END:VEVENT
END:VCALENDAR