BEGIN:VCALENDAR
VERSION:2.0
PRODID:-//Dayspring Christian Academy - ECPv6.15.17//NONSGML v1.0//EN
CALSCALE:GREGORIAN
METHOD:PUBLISH
X-WR-CALNAME:Dayspring Christian Academy
X-ORIGINAL-URL:https://dayspringeagles.org
X-WR-CALDESC:Events for Dayspring Christian Academy
REFRESH-INTERVAL;VALUE=DURATION:PT1H
X-Robots-Tag:noindex
X-PUBLISHED-TTL:PT1H
BEGIN:VTIMEZONE
TZID:UTC
BEGIN:STANDARD
TZOFFSETFROM:+0000
TZOFFSETTO:+0000
TZNAME:UTC
DTSTART:20240101T000000
END:STANDARD
END:VTIMEZONE
BEGIN:VEVENT
DTSTART;TZID=UTC:20260415T153000
DTEND;TZID=UTC:20260415T200000
DTSTAMP:20260424T071145
CREATED:20260325T155511Z
LAST-MODIFIED:20260325T155511Z
UID:10000201-1776267000-1776283200@dayspringeagles.org
SUMMARY:HS JV Track & Field @ Frontier HS
DESCRIPTION:DCA HS JV Track and Field at Frontier HS on April 15th at 3:30 pm.
URL:https://dayspringeagles.org/event/hs-jv-track-field-frontier-hs/
LOCATION:Frontier Academy\, 6530 W. 16th St\, Greeley\, CO\, 80634\, United States
CATEGORIES:All School,Athletics,MS/HS
ATTACH;FMTTYPE=image/png:https://dayspringeagles.org/wp-content/uploads/2025/02/HStrack.png
END:VEVENT
BEGIN:VEVENT
DTSTART;TZID=UTC:20250416T153000
DTEND;TZID=UTC:20250416T190000
DTSTAMP:20260424T071145
CREATED:20250227T203815Z
LAST-MODIFIED:20250227T203815Z
UID:10000039-1744817400-1744830000@dayspringeagles.org
SUMMARY:HS Track and Field: Frontier (JV)
DESCRIPTION:
URL:https://dayspringeagles.org/event/hs-track-and-field-frontier-jv/
LOCATION:Frontier Academy\, 6530 W. 16th St\, Greeley\, CO\, 80634\, United States
CATEGORIES:All School,Athletics,MS/HS
ATTACH;FMTTYPE=image/png:https://dayspringeagles.org/wp-content/uploads/2025/02/HStrack.png
END:VEVENT
END:VCALENDAR