BEGIN:VCALENDAR
VERSION:2.0
PRODID:-//Dayspring Christian Academy - ECPv6.15.17//NONSGML v1.0//EN
CALSCALE:GREGORIAN
METHOD:PUBLISH
X-ORIGINAL-URL:https://dayspringeagles.org
X-WR-CALDESC:Events for Dayspring Christian Academy
REFRESH-INTERVAL;VALUE=DURATION:PT1H
X-Robots-Tag:noindex
X-PUBLISHED-TTL:PT1H
BEGIN:VTIMEZONE
TZID:UTC
BEGIN:STANDARD
TZOFFSETFROM:+0000
TZOFFSETTO:+0000
TZNAME:UTC
DTSTART:20240101T000000
END:STANDARD
END:VTIMEZONE
BEGIN:VEVENT
DTSTART;TZID=UTC:20251210T173000
DTEND;TZID=UTC:20251210T193000
DTSTAMP:20260424T054854
CREATED:20251027T175118Z
LAST-MODIFIED:20251027T175118Z
UID:10000146-1765387800-1765395000@dayspringeagles.org
SUMMARY:Elementary Christmas Concert
DESCRIPTION:Elementary Christmas Concert \n\nK – 2nd Grade – 5:30 pm\n3rd – 6th Grade – 6:30 pm
URL:https://dayspringeagles.org/event/elementary-christmas-concert/
LOCATION:Generations Church\, 3600 W 22nd St\, Greeley\, 80634\, United States
CATEGORIES:Academics/Staff,All School,Elementary,MS/HS,PreK
ATTACH;FMTTYPE=image/png:https://dayspringeagles.org/wp-content/uploads/2025/10/Christmas-Concerts-2.png
END:VEVENT
BEGIN:VEVENT
DTSTART;TZID=UTC:20251209T190000
DTEND;TZID=UTC:20251209T200000
DTSTAMP:20260424T054854
CREATED:20251027T174818Z
LAST-MODIFIED:20251027T174818Z
UID:10000144-1765306800-1765310400@dayspringeagles.org
SUMMARY:Middle & High School Choir Concert
DESCRIPTION:Middle and High School Choir Concert
URL:https://dayspringeagles.org/event/middle-high-school-choir-concert/
LOCATION:Generations Church\, 3600 W 22nd St\, Greeley\, 80634\, United States
CATEGORIES:Academics/Staff,All School,Elementary,MS/HS,PreK
ATTACH;FMTTYPE=image/png:https://dayspringeagles.org/wp-content/uploads/2025/10/Christmas-Concerts-2.png
END:VEVENT
BEGIN:VEVENT
DTSTART;TZID=UTC:20251209T170000
DTEND;TZID=UTC:20251209T180000
DTSTAMP:20260424T054854
CREATED:20251027T174934Z
LAST-MODIFIED:20251027T174934Z
UID:10000145-1765299600-1765303200@dayspringeagles.org
SUMMARY:Pre-Kindergarten Christmas Concert
DESCRIPTION:Pre-Kindergarten Christmas Concert
URL:https://dayspringeagles.org/event/pre-kindergarten-christmas-concert/
LOCATION:Generations Church\, 3600 W 22nd St\, Greeley\, 80634\, United States
CATEGORIES:Academics/Staff,All School,Elementary,MS/HS,PreK
ATTACH;FMTTYPE=image/png:https://dayspringeagles.org/wp-content/uploads/2025/10/Christmas-Concerts-2.png
END:VEVENT
END:VCALENDAR