BEGIN:VCALENDAR
VERSION:2.0
PRODID:-//Dayspring Christian Academy - ECPv6.15.17//NONSGML v1.0//EN
CALSCALE:GREGORIAN
METHOD:PUBLISH
X-WR-CALNAME:Dayspring Christian Academy
X-ORIGINAL-URL:https://dayspringeagles.org
X-WR-CALDESC:Events for Dayspring Christian Academy
REFRESH-INTERVAL;VALUE=DURATION:PT1H
X-Robots-Tag:noindex
X-PUBLISHED-TTL:PT1H
BEGIN:VTIMEZONE
TZID:UTC
BEGIN:STANDARD
TZOFFSETFROM:+0000
TZOFFSETTO:+0000
TZNAME:UTC
DTSTART:20240101T000000
END:STANDARD
END:VTIMEZONE
BEGIN:VEVENT
DTSTART;TZID=UTC:20260422T153000
DTEND;TZID=UTC:20260422T200000
DTSTAMP:20260424T024139
CREATED:20260325T154958Z
LAST-MODIFIED:20260417T183306Z
UID:10000199-1776871800-1776888000@dayspringeagles.org
SUMMARY:HS Track & Field @ Greeley Twilight Meet @ Northridge HS
DESCRIPTION:DCA HS Track and Field at Greeley Twilight Meet on April 17th at Northridge High School @ 3:30 pm.
URL:https://dayspringeagles.org/event/hs-track-field-greeley-twilight-meet-northridge-hs/
LOCATION:Northridge High School (D6 Stadium)\, 7001 Grizzly Dr.\, Greeley\, CO\, 80634\, United States
CATEGORIES:All School,Athletics,MS/HS
ATTACH;FMTTYPE=image/png:https://dayspringeagles.org/wp-content/uploads/2025/02/HStrack.png
END:VEVENT
BEGIN:VEVENT
DTSTART;TZID=UTC:20260410T153000
DTEND;TZID=UTC:20260410T200000
DTSTAMP:20260424T024139
CREATED:20260325T154534Z
LAST-MODIFIED:20260325T155048Z
UID:10000198-1775835000-1775851200@dayspringeagles.org
SUMMARY:HS Track & Field @ Northridge HS
DESCRIPTION:DCA HS Track and Field at Grizzly Invite on April 10th at Northridge High School @ 3:30pm.
URL:https://dayspringeagles.org/event/hs-track-field-northridge-hs/
LOCATION:Northridge High School (D6 Stadium)\, 7001 Grizzly Dr.\, Greeley\, CO\, 80634\, United States
CATEGORIES:All School,Athletics,MS/HS
ATTACH;FMTTYPE=image/png:https://dayspringeagles.org/wp-content/uploads/2025/02/HStrack.png
END:VEVENT
BEGIN:VEVENT
DTSTART;TZID=UTC:20250411T140000
DTEND;TZID=UTC:20250411T210000
DTSTAMP:20260424T024139
CREATED:20250220T212916Z
LAST-MODIFIED:20250220T212916Z
UID:10000016-1744380000-1744405200@dayspringeagles.org
SUMMARY:HS Track and Field: Greeley Twilight
DESCRIPTION:
URL:https://dayspringeagles.org/event/hs-track-and-field-greeley-twilight/
LOCATION:Northridge High School (D6 Stadium)\, 7001 Grizzly Dr.\, Greeley\, CO\, 80634\, United States
CATEGORIES:All School,Athletics,MS/HS
ATTACH;FMTTYPE=image/png:https://dayspringeagles.org/wp-content/uploads/2025/02/HStrack.png
END:VEVENT
BEGIN:VEVENT
DTSTART;TZID=UTC:20250404T100000
DTEND;TZID=UTC:20250404T180000
DTSTAMP:20260424T024139
CREATED:20250220T211915Z
LAST-MODIFIED:20250220T211915Z
UID:10000014-1743760800-1743789600@dayspringeagles.org
SUMMARY:HS Track and Field: Grizzly Invite
DESCRIPTION:
URL:https://dayspringeagles.org/event/hs-track-and-field-grizzly-invite/
LOCATION:Northridge High School (D6 Stadium)\, 7001 Grizzly Dr.\, Greeley\, CO\, 80634\, United States
CATEGORIES:All School,Athletics,MS/HS
ATTACH;FMTTYPE=image/png:https://dayspringeagles.org/wp-content/uploads/2025/02/HStrack.png
END:VEVENT
END:VCALENDAR