BEGIN:VCALENDAR
VERSION:2.0
PRODID:-//Dayspring Christian Academy - ECPv6.15.17//NONSGML v1.0//EN
CALSCALE:GREGORIAN
METHOD:PUBLISH
X-ORIGINAL-URL:https://dayspringeagles.org
X-WR-CALDESC:Events for Dayspring Christian Academy
REFRESH-INTERVAL;VALUE=DURATION:PT1H
X-Robots-Tag:noindex
X-PUBLISHED-TTL:PT1H
BEGIN:VTIMEZONE
TZID:UTC
BEGIN:STANDARD
TZOFFSETFROM:+0000
TZOFFSETTO:+0000
TZNAME:UTC
DTSTART:20240101T000000
END:STANDARD
END:VTIMEZONE
BEGIN:VEVENT
DTSTART;TZID=UTC:20250405T093000
DTEND;TZID=UTC:20250405T160000
DTSTAMP:20260424T042027
CREATED:20250227T212732Z
LAST-MODIFIED:20250227T215742Z
UID:10000042-1743845400-1743868800@dayspringeagles.org
SUMMARY:MS Track and Field: NCIL Meet #1
DESCRIPTION:
URL:https://dayspringeagles.org/event/ms-track-and-field-twin-peaks-classical-academy/
LOCATION:Twin Peaks Classical Academy\, 340 Sunset St\, Longmont\, CO\, 80501\, United States
CATEGORIES:All School,Athletics,MS/HS
ATTACH;FMTTYPE=image/png:https://dayspringeagles.org/wp-content/uploads/2025/02/MS-Track.png
END:VEVENT
END:VCALENDAR